BEGIN:VCALENDAR
VERSION:2.0
PRODID:-//St. Thomas More Collegiate - ECPv6.15.20//NONSGML v1.0//EN
CALSCALE:GREGORIAN
METHOD:PUBLISH
X-WR-CALNAME:St. Thomas More Collegiate
X-ORIGINAL-URL:https://stthomasmorecollegiate.ca
X-WR-CALDESC:Events for St. Thomas More Collegiate
REFRESH-INTERVAL;VALUE=DURATION:PT1H
X-Robots-Tag:noindex
X-PUBLISHED-TTL:PT1H
BEGIN:VTIMEZONE
TZID:America/Vancouver
BEGIN:DAYLIGHT
TZOFFSETFROM:-0800
TZOFFSETTO:-0700
TZNAME:PDT
DTSTART:20230312T100000
END:DAYLIGHT
BEGIN:STANDARD
TZOFFSETFROM:-0700
TZOFFSETTO:-0800
TZNAME:PST
DTSTART:20231105T090000
END:STANDARD
BEGIN:DAYLIGHT
TZOFFSETFROM:-0800
TZOFFSETTO:-0700
TZNAME:PDT
DTSTART:20240310T100000
END:DAYLIGHT
BEGIN:STANDARD
TZOFFSETFROM:-0700
TZOFFSETTO:-0800
TZNAME:PST
DTSTART:20241103T090000
END:STANDARD
BEGIN:DAYLIGHT
TZOFFSETFROM:-0800
TZOFFSETTO:-0700
TZNAME:PDT
DTSTART:20250309T100000
END:DAYLIGHT
BEGIN:STANDARD
TZOFFSETFROM:-0700
TZOFFSETTO:-0800
TZNAME:PST
DTSTART:20251102T090000
END:STANDARD
END:VTIMEZONE
BEGIN:VEVENT
DTSTART;VALUE=DATE:20240612
DTEND;VALUE=DATE:20240613
DTSTAMP:20260421T133131
CREATED:20240521T183456Z
LAST-MODIFIED:20240611T231838Z
UID:10000157-1718150400-1718236799@stthomasmorecollegiate.ca
SUMMARY:Grad Farewell
DESCRIPTION:Wednesday June 12 – Grad Farewell8:25am – 9:15     – Block F9:20 am -10:10    – Block G10:10am – 10:20 – Break10:25 – 11:15  – Block H11:20pm – 12:10  – Block E12:15 – 1:30 -Year End/Grad Farewell Assembly/Recognition
URL:https://stthomasmorecollegiate.ca/calendar/grad-farewell/
CATEGORIES:Class Schedule,Grad Events
END:VEVENT
BEGIN:VEVENT
DTSTART;TZID=America/Vancouver:20240620T100000
DTEND;TZID=America/Vancouver:20240620T120000
DTSTAMP:20260421T133131
CREATED:20240521T183457Z
LAST-MODIFIED:20240620T184837Z
UID:10000166-1718877600-1718884800@stthomasmorecollegiate.ca
SUMMARY:Grad Breakfast
DESCRIPTION:
URL:https://stthomasmorecollegiate.ca/calendar/grad-breakfast/
CATEGORIES:Class Schedule,Grad Events
END:VEVENT
BEGIN:VEVENT
DTSTART;TZID=America/Vancouver:20240621T163000
DTEND;TZID=America/Vancouver:20240621T190000
DTSTAMP:20260421T133131
CREATED:20240521T183457Z
LAST-MODIFIED:20240622T013337Z
UID:10000167-1718987400-1718996400@stthomasmorecollegiate.ca
SUMMARY:STMC Grad Ceremonies at Massey Theatre
DESCRIPTION:
URL:https://stthomasmorecollegiate.ca/calendar/stmc-grad-ceremonies-at-massey-theatre/
CATEGORIES:Class Schedule,Grad Events
END:VEVENT
BEGIN:VEVENT
DTSTART;VALUE=DATE:20240629
DTEND;VALUE=DATE:20240630
DTSTAMP:20260421T133131
CREATED:20240521T183457Z
LAST-MODIFIED:20240629T234855Z
UID:10000170-1719619200-1719705599@stthomasmorecollegiate.ca
SUMMARY:Grad Dinner & Dance at the Westin Bayshore
DESCRIPTION:5 – 6 – Reception/Check in\n6:15 – Student organized backstage \n6:30 – Parents and Guests Seated – Program Starts\n6:40 – Student Procession\n7 – Dinner Program Begins\n9 -11:30 -Dance
URL:https://stthomasmorecollegiate.ca/calendar/grad-dinner-dance-at-the-bayshore/
CATEGORIES:Class Schedule,Grad Events
END:VEVENT
END:VCALENDAR