BEGIN:VCALENDAR
VERSION:2.0
PRODID:-//St. Thomas More Collegiate - ECPv6.15.20//NONSGML v1.0//EN
CALSCALE:GREGORIAN
METHOD:PUBLISH
X-WR-CALNAME:St. Thomas More Collegiate
X-ORIGINAL-URL:https://stthomasmorecollegiate.ca
X-WR-CALDESC:Events for St. Thomas More Collegiate
REFRESH-INTERVAL;VALUE=DURATION:PT1H
X-Robots-Tag:noindex
X-PUBLISHED-TTL:PT1H
BEGIN:VTIMEZONE
TZID:America/Vancouver
BEGIN:DAYLIGHT
TZOFFSETFROM:-0800
TZOFFSETTO:-0700
TZNAME:PDT
DTSTART:20230312T100000
END:DAYLIGHT
BEGIN:STANDARD
TZOFFSETFROM:-0700
TZOFFSETTO:-0800
TZNAME:PST
DTSTART:20231105T090000
END:STANDARD
BEGIN:DAYLIGHT
TZOFFSETFROM:-0800
TZOFFSETTO:-0700
TZNAME:PDT
DTSTART:20240310T100000
END:DAYLIGHT
BEGIN:STANDARD
TZOFFSETFROM:-0700
TZOFFSETTO:-0800
TZNAME:PST
DTSTART:20241103T090000
END:STANDARD
BEGIN:DAYLIGHT
TZOFFSETFROM:-0800
TZOFFSETTO:-0700
TZNAME:PDT
DTSTART:20250309T100000
END:DAYLIGHT
BEGIN:STANDARD
TZOFFSETFROM:-0700
TZOFFSETTO:-0800
TZNAME:PST
DTSTART:20251102T090000
END:STANDARD
END:VTIMEZONE
BEGIN:VEVENT
DTSTART;TZID=America/Vancouver:20240620T100000
DTEND;TZID=America/Vancouver:20240620T120000
DTSTAMP:20260421T150754
CREATED:20240521T183457Z
LAST-MODIFIED:20240620T184837Z
UID:10000166-1718877600-1718884800@stthomasmorecollegiate.ca
SUMMARY:Grad Breakfast
DESCRIPTION:
URL:https://stthomasmorecollegiate.ca/calendar/grad-breakfast/
CATEGORIES:Class Schedule,Grad Events
END:VEVENT
END:VCALENDAR