BEGIN:VCALENDAR
VERSION:2.0
PRODID:-//St. Thomas More Collegiate - ECPv6.15.20//NONSGML v1.0//EN
CALSCALE:GREGORIAN
METHOD:PUBLISH
X-ORIGINAL-URL:https://stthomasmorecollegiate.ca
X-WR-CALDESC:Events for St. Thomas More Collegiate
REFRESH-INTERVAL;VALUE=DURATION:PT1H
X-Robots-Tag:noindex
X-PUBLISHED-TTL:PT1H
BEGIN:VTIMEZONE
TZID:America/Vancouver
BEGIN:DAYLIGHT
TZOFFSETFROM:-0800
TZOFFSETTO:-0700
TZNAME:PDT
DTSTART:20240310T100000
END:DAYLIGHT
BEGIN:STANDARD
TZOFFSETFROM:-0700
TZOFFSETTO:-0800
TZNAME:PST
DTSTART:20241103T090000
END:STANDARD
BEGIN:DAYLIGHT
TZOFFSETFROM:-0800
TZOFFSETTO:-0700
TZNAME:PDT
DTSTART:20250309T100000
END:DAYLIGHT
BEGIN:STANDARD
TZOFFSETFROM:-0700
TZOFFSETTO:-0800
TZNAME:PST
DTSTART:20251102T090000
END:STANDARD
BEGIN:DAYLIGHT
TZOFFSETFROM:-0800
TZOFFSETTO:-0700
TZNAME:PDT
DTSTART:20260308T100000
END:DAYLIGHT
BEGIN:STANDARD
TZOFFSETFROM:-0700
TZOFFSETTO:-0800
TZNAME:PST
DTSTART:20261101T090000
END:STANDARD
BEGIN:DAYLIGHT
TZOFFSETFROM:-0800
TZOFFSETTO:-0700
TZNAME:PDT
DTSTART:20270314T100000
END:DAYLIGHT
BEGIN:STANDARD
TZOFFSETFROM:-0700
TZOFFSETTO:-0800
TZNAME:PST
DTSTART:20271107T090000
END:STANDARD
END:VTIMEZONE
BEGIN:VEVENT
DTSTART;VALUE=DATE:20251217
DTEND;VALUE=DATE:20251218
DTSTAMP:20260421T103009
CREATED:20250910T193824Z
LAST-MODIFIED:20260417T212344Z
UID:10001268-1765929600-1766015999@stthomasmorecollegiate.ca
SUMMARY:Grad Buddy Photos
DESCRIPTION:
URL:https://stthomasmorecollegiate.ca/calendar/grad-buddy-photos-4/
CATEGORIES:Special Events
END:VEVENT
BEGIN:VEVENT
DTSTART;VALUE=DATE:20251217
DTEND;VALUE=DATE:20251218
DTSTAMP:20260421T103009
CREATED:20251102T142227Z
LAST-MODIFIED:20260421T172225Z
UID:10001316-1765929600-1766015999@stthomasmorecollegiate.ca
SUMMARY:8B vs FRMS
DESCRIPTION:
URL:https://stthomasmorecollegiate.ca/calendar/8b-vs-frms/
CATEGORIES:Athletics
END:VEVENT
BEGIN:VEVENT
DTSTART;VALUE=DATE:20251217
DTEND;VALUE=DATE:20251218
DTSTAMP:20260421T103009
CREATED:20251102T142227Z
LAST-MODIFIED:20260421T172225Z
UID:10001317-1765929600-1766015999@stthomasmorecollegiate.ca
SUMMARY:8G at FRMS
DESCRIPTION:
URL:https://stthomasmorecollegiate.ca/calendar/8g-at-frms-2/
CATEGORIES:Athletics
END:VEVENT
BEGIN:VEVENT
DTSTART;VALUE=DATE:20251217
DTEND;VALUE=DATE:20251218
DTSTAMP:20260421T103009
CREATED:20251116T040736Z
LAST-MODIFIED:20260421T172225Z
UID:10001366-1765929600-1766015999@stthomasmorecollegiate.ca
SUMMARY:SB vs Collingwood (5:30)
DESCRIPTION:
URL:https://stthomasmorecollegiate.ca/calendar/sb-vs-collingwood-530/
CATEGORIES:Athletics
END:VEVENT
BEGIN:VEVENT
DTSTART;TZID=America/Vancouver:20251217T143000
DTEND;TZID=America/Vancouver:20251217T150000
DTSTAMP:20260421T103009
CREATED:20250827T190812Z
LAST-MODIFIED:20260417T212344Z
UID:10001222-1765981800-1765983600@stthomasmorecollegiate.ca
SUMMARY:Used Uniform Sale
DESCRIPTION:
URL:https://stthomasmorecollegiate.ca/calendar/used-uniform-sale-6/
CATEGORIES:Special Events
END:VEVENT
BEGIN:VEVENT
DTSTART;VALUE=DATE:20251218
DTEND;VALUE=DATE:20251219
DTSTAMP:20260421T103009
CREATED:20250318T172028Z
LAST-MODIFIED:20260417T212344Z
UID:10000916-1766016000-1766102399@stthomasmorecollegiate.ca
SUMMARY:DAY 2 - GHEF
DESCRIPTION:8:20am Warning Bell \n8:25am-9:05am G Block \n9:10am-9:50am H Block \n9:55am-10:35am E Block \nBreak \n10:50am-11:30am F Block \n11:30am -12:45pm Advent Mass and Christmas Sing-a-long
URL:https://stthomasmorecollegiate.ca/calendar/day-2-ghef-31/
CATEGORIES:Class Schedule
END:VEVENT
BEGIN:VEVENT
DTSTART;VALUE=DATE:20251218
DTEND;VALUE=DATE:20251219
DTSTAMP:20260421T103009
CREATED:20250724T162110Z
LAST-MODIFIED:20260417T212344Z
UID:10001100-1766016000-1766102399@stthomasmorecollegiate.ca
SUMMARY:Mass Schedule - Advent Mass
DESCRIPTION:8:20am Warning Bell \n8:25am-9:05am G Block \n9:10am-9:50am H Block \n9:55am-10:35am E Block \nBreak \n10:50am-11:30am F Block \n11:30am -12:45pm Advent Mass and Christmas Sing-a-long
URL:https://stthomasmorecollegiate.ca/calendar/mass-schedule-advent-mass/
CATEGORIES:Masses & Retreats
END:VEVENT
BEGIN:VEVENT
DTSTART;VALUE=DATE:20251218
DTEND;VALUE=DATE:20251221
DTSTAMP:20260421T103009
CREATED:20251103T140738Z
LAST-MODIFIED:20260421T172225Z
UID:10001350-1766016000-1766275199@stthomasmorecollegiate.ca
SUMMARY:JB/SB Gary Taylor Tournament - Victoria
DESCRIPTION:
URL:https://stthomasmorecollegiate.ca/calendar/jb-sb-gary-taylor-tournament-victoria/
CATEGORIES:Athletics
END:VEVENT
BEGIN:VEVENT
DTSTART;VALUE=DATE:20251219
DTEND;VALUE=DATE:20251220
DTSTAMP:20260421T103009
CREATED:20250317T225035Z
LAST-MODIFIED:20260417T212344Z
UID:10000816-1766102400-1766188799@stthomasmorecollegiate.ca
SUMMARY:Christmas Break - School Closed
DESCRIPTION:
URL:https://stthomasmorecollegiate.ca/calendar/christmas-break-school-closed/
CATEGORIES:No School
END:VEVENT
BEGIN:VEVENT
DTSTART;VALUE=DATE:20251222
DTEND;VALUE=DATE:20251223
DTSTAMP:20260421T103009
CREATED:20250317T225036Z
LAST-MODIFIED:20260417T212344Z
UID:10000817-1766361600-1766447999@stthomasmorecollegiate.ca
SUMMARY:Christmas Break - School Closed
DESCRIPTION:
URL:https://stthomasmorecollegiate.ca/calendar/christmas-break-school-closed-2/
CATEGORIES:No School
END:VEVENT
BEGIN:VEVENT
DTSTART;VALUE=DATE:20251223
DTEND;VALUE=DATE:20251224
DTSTAMP:20260421T103009
CREATED:20250317T225036Z
LAST-MODIFIED:20260417T212344Z
UID:10000819-1766448000-1766534399@stthomasmorecollegiate.ca
SUMMARY:Christmas Break - School Closed
DESCRIPTION:
URL:https://stthomasmorecollegiate.ca/calendar/christmas-break-school-closed-4/
CATEGORIES:No School
END:VEVENT
BEGIN:VEVENT
DTSTART;VALUE=DATE:20251224
DTEND;VALUE=DATE:20251225
DTSTAMP:20260421T103009
CREATED:20250317T225036Z
LAST-MODIFIED:20260417T212344Z
UID:10000818-1766534400-1766620799@stthomasmorecollegiate.ca
SUMMARY:Christmas Break - School Closed
DESCRIPTION:
URL:https://stthomasmorecollegiate.ca/calendar/christmas-break-school-closed-3/
CATEGORIES:No School
END:VEVENT
BEGIN:VEVENT
DTSTART;VALUE=DATE:20251225
DTEND;VALUE=DATE:20251226
DTSTAMP:20260421T103009
CREATED:20250317T225036Z
LAST-MODIFIED:20260417T212345Z
UID:10000821-1766620800-1766707199@stthomasmorecollegiate.ca
SUMMARY:Christmas Break - School Closed
DESCRIPTION:
URL:https://stthomasmorecollegiate.ca/calendar/christmas-break-school-closed-6/
CATEGORIES:No School
END:VEVENT
BEGIN:VEVENT
DTSTART;VALUE=DATE:20251226
DTEND;VALUE=DATE:20251227
DTSTAMP:20260421T103009
CREATED:20250317T225036Z
LAST-MODIFIED:20260417T212345Z
UID:10000820-1766707200-1766793599@stthomasmorecollegiate.ca
SUMMARY:Christmas Break - School Closed
DESCRIPTION:
URL:https://stthomasmorecollegiate.ca/calendar/christmas-break-school-closed-5/
CATEGORIES:No School
END:VEVENT
BEGIN:VEVENT
DTSTART;VALUE=DATE:20251227
DTEND;VALUE=DATE:20251228
DTSTAMP:20260421T103009
CREATED:20251103T140738Z
LAST-MODIFIED:20260421T172225Z
UID:10001351-1766793600-1766879999@stthomasmorecollegiate.ca
SUMMARY:SB vs Pacific Academy
DESCRIPTION:
URL:https://stthomasmorecollegiate.ca/calendar/sb-vs-pacific-academy/
CATEGORIES:Athletics
END:VEVENT
BEGIN:VEVENT
DTSTART;VALUE=DATE:20251229
DTEND;VALUE=DATE:20251230
DTSTAMP:20260421T103009
CREATED:20250317T225036Z
LAST-MODIFIED:20260417T212345Z
UID:10000823-1766966400-1767052799@stthomasmorecollegiate.ca
SUMMARY:Christmas Break - School Closed
DESCRIPTION:
URL:https://stthomasmorecollegiate.ca/calendar/christmas-break-school-closed-8/
CATEGORIES:No School
END:VEVENT
BEGIN:VEVENT
DTSTART;VALUE=DATE:20251230
DTEND;VALUE=DATE:20251231
DTSTAMP:20260421T103009
CREATED:20250317T225036Z
LAST-MODIFIED:20260417T212345Z
UID:10000822-1767052800-1767139199@stthomasmorecollegiate.ca
SUMMARY:Christmas Break - School Closed
DESCRIPTION:
URL:https://stthomasmorecollegiate.ca/calendar/christmas-break-school-closed-7/
CATEGORIES:No School
END:VEVENT
BEGIN:VEVENT
DTSTART;VALUE=DATE:20251230
DTEND;VALUE=DATE:20251231
DTSTAMP:20260421T103009
CREATED:20251103T140738Z
LAST-MODIFIED:20260421T172225Z
UID:10001352-1767052800-1767139199@stthomasmorecollegiate.ca
SUMMARY:SB at Terry Fox
DESCRIPTION:
URL:https://stthomasmorecollegiate.ca/calendar/sb-at-terry-fox/
CATEGORIES:Athletics
END:VEVENT
BEGIN:VEVENT
DTSTART;VALUE=DATE:20251231
DTEND;VALUE=DATE:20260101
DTSTAMP:20260421T103009
CREATED:20250317T225036Z
LAST-MODIFIED:20260417T212345Z
UID:10000824-1767139200-1767225599@stthomasmorecollegiate.ca
SUMMARY:Christmas Break - School Closed
DESCRIPTION:
URL:https://stthomasmorecollegiate.ca/calendar/christmas-break-school-closed-9/
CATEGORIES:No School
END:VEVENT
BEGIN:VEVENT
DTSTART;VALUE=DATE:20260101
DTEND;VALUE=DATE:20260102
DTSTAMP:20260421T103009
CREATED:20250317T225036Z
LAST-MODIFIED:20260417T212345Z
UID:10000825-1767225600-1767311999@stthomasmorecollegiate.ca
SUMMARY:Christmas Break - School Closed
DESCRIPTION:
URL:https://stthomasmorecollegiate.ca/calendar/christmas-break-school-closed-10/
CATEGORIES:No School
END:VEVENT
BEGIN:VEVENT
DTSTART;VALUE=DATE:20260102
DTEND;VALUE=DATE:20260103
DTSTAMP:20260421T103009
CREATED:20250317T225037Z
LAST-MODIFIED:20260417T212345Z
UID:10000826-1767312000-1767398399@stthomasmorecollegiate.ca
SUMMARY:Christmas Break - School Closed
DESCRIPTION:
URL:https://stthomasmorecollegiate.ca/calendar/christmas-break-school-closed-11/
CATEGORIES:No School
END:VEVENT
BEGIN:VEVENT
DTSTART;VALUE=DATE:20260105
DTEND;VALUE=DATE:20260106
DTSTAMP:20260421T103009
CREATED:20250318T172029Z
LAST-MODIFIED:20260417T212345Z
UID:10000918-1767571200-1767657599@stthomasmorecollegiate.ca
SUMMARY:DAY 1 - DABC - Regular Schedule
DESCRIPTION:Regular Schedule: \n7 – 8:15 am       Morning X Blocks \n8:20 am       Warning Bell \n8:25 – 9:45 am   Period 1 \n9:50 – 11:05 am   Period 2 \n          Morning Break     \n11:20 – 12:35 pm   Period 3 \n          Lunch \n1:25 – 2:40 pm       Period 4 \n2:45 – 2:40       Afterschool Y Blocks
URL:https://stthomasmorecollegiate.ca/calendar/day-1-dabc-29/
CATEGORIES:Class Schedule
END:VEVENT
BEGIN:VEVENT
DTSTART;VALUE=DATE:20260105
DTEND;VALUE=DATE:20260106
DTSTAMP:20260421T103009
CREATED:20251102T142228Z
LAST-MODIFIED:20260421T172225Z
UID:10001320-1767571200-1767657599@stthomasmorecollegiate.ca
SUMMARY:8B/JB/SB at South
DESCRIPTION:
URL:https://stthomasmorecollegiate.ca/calendar/8b-jb-sb-at-south/
CATEGORIES:Athletics
END:VEVENT
BEGIN:VEVENT
DTSTART;VALUE=DATE:20260106
DTEND;VALUE=DATE:20260107
DTSTAMP:20260421T103009
CREATED:20250318T172029Z
LAST-MODIFIED:20260417T212345Z
UID:10000917-1767657600-1767743999@stthomasmorecollegiate.ca
SUMMARY:DAY 2 - HEFG - Regular Schedule
DESCRIPTION:Regular Schedule: \n7 – 8:15 am       Morning X Blocks \n8:20 am       Warning Bell \n8:25 – 9:45 am   Period 1 \n9:50 – 11:05 am   Period 2 \n          Morning Break     \n11:20 – 12:35 pm   Period 3 \n          Lunch \n1:25 – 2:40 pm       Period 4 \n2:45 – 2:40       Afterschool Y Blocks
URL:https://stthomasmorecollegiate.ca/calendar/day-2-hefg-31/
CATEGORIES:Class Schedule
END:VEVENT
BEGIN:VEVENT
DTSTART;VALUE=DATE:20260106
DTEND;VALUE=DATE:20260107
DTSTAMP:20260421T103009
CREATED:20251102T142229Z
LAST-MODIFIED:20260421T172226Z
UID:10001327-1767657600-1767743999@stthomasmorecollegiate.ca
SUMMARY:8B at GMS
DESCRIPTION:
URL:https://stthomasmorecollegiate.ca/calendar/8b-at-gms/
CATEGORIES:Athletics
END:VEVENT
BEGIN:VEVENT
DTSTART;VALUE=DATE:20260106
DTEND;VALUE=DATE:20260107
DTSTAMP:20260421T103009
CREATED:20251102T142229Z
LAST-MODIFIED:20260421T172226Z
UID:10001328-1767657600-1767743999@stthomasmorecollegiate.ca
SUMMARY:8G vs GMS
DESCRIPTION:
URL:https://stthomasmorecollegiate.ca/calendar/8g-vs-gms/
CATEGORIES:Athletics
END:VEVENT
BEGIN:VEVENT
DTSTART;VALUE=DATE:20260106
DTEND;VALUE=DATE:20260107
DTSTAMP:20260421T103009
CREATED:20251115T152235Z
LAST-MODIFIED:20260421T172226Z
UID:10001365-1767657600-1767743999@stthomasmorecollegiate.ca
SUMMARY:JG/SG at New West
DESCRIPTION:
URL:https://stthomasmorecollegiate.ca/calendar/sg-at-new-west/
CATEGORIES:Athletics
END:VEVENT
BEGIN:VEVENT
DTSTART;VALUE=DATE:20260107
DTEND;VALUE=DATE:20260108
DTSTAMP:20260421T103009
CREATED:20250317T225037Z
LAST-MODIFIED:20260417T212345Z
UID:10000829-1767744000-1767830399@stthomasmorecollegiate.ca
SUMMARY:RED DAY
DESCRIPTION:
URL:https://stthomasmorecollegiate.ca/calendar/red-day-9/
CATEGORIES:Special Events
END:VEVENT
BEGIN:VEVENT
DTSTART;VALUE=DATE:20260107
DTEND;VALUE=DATE:20260108
DTSTAMP:20260421T103009
CREATED:20250318T172030Z
LAST-MODIFIED:20260417T212345Z
UID:10000919-1767744000-1767830399@stthomasmorecollegiate.ca
SUMMARY:DAY 1 - ABCD - Adjusted Schedule
DESCRIPTION:A – 8:25 – 9:10  \nB – 9:15 – 10:00  \nC – 10:05 – 10:50  \nBrunch \nD – 11:15 – 11:55  \nTip Off – 12 pm \nDismissal after the game 2:00 
URL:https://stthomasmorecollegiate.ca/calendar/day-1-abcd-34/
CATEGORIES:Class Schedule
END:VEVENT
BEGIN:VEVENT
DTSTART;VALUE=DATE:20260107
DTEND;VALUE=DATE:20260111
DTSTAMP:20260421T103009
CREATED:20250423T203526Z
LAST-MODIFIED:20260421T172225Z
UID:10001035-1767744000-1768089599@stthomasmorecollegiate.ca
SUMMARY:SB Rich Goulet Memorial Chancellor Tournament
DESCRIPTION:
URL:https://stthomasmorecollegiate.ca/calendar/sb-rich-goulet-memorial-chancellor-tournament/
CATEGORIES:Athletics
END:VEVENT
END:VCALENDAR