BEGIN:VCALENDAR
VERSION:2.0
PRODID:-//St. Thomas More Collegiate - ECPv6.15.20//NONSGML v1.0//EN
CALSCALE:GREGORIAN
METHOD:PUBLISH
X-WR-CALNAME:St. Thomas More Collegiate
X-ORIGINAL-URL:https://stthomasmorecollegiate.ca
X-WR-CALDESC:Events for St. Thomas More Collegiate
REFRESH-INTERVAL;VALUE=DURATION:PT1H
X-Robots-Tag:noindex
X-PUBLISHED-TTL:PT1H
BEGIN:VTIMEZONE
TZID:America/Vancouver
BEGIN:DAYLIGHT
TZOFFSETFROM:-0800
TZOFFSETTO:-0700
TZNAME:PDT
DTSTART:20240310T100000
END:DAYLIGHT
BEGIN:STANDARD
TZOFFSETFROM:-0700
TZOFFSETTO:-0800
TZNAME:PST
DTSTART:20241103T090000
END:STANDARD
BEGIN:DAYLIGHT
TZOFFSETFROM:-0800
TZOFFSETTO:-0700
TZNAME:PDT
DTSTART:20250309T100000
END:DAYLIGHT
BEGIN:STANDARD
TZOFFSETFROM:-0700
TZOFFSETTO:-0800
TZNAME:PST
DTSTART:20251102T090000
END:STANDARD
BEGIN:DAYLIGHT
TZOFFSETFROM:-0800
TZOFFSETTO:-0700
TZNAME:PDT
DTSTART:20260308T100000
END:DAYLIGHT
BEGIN:STANDARD
TZOFFSETFROM:-0700
TZOFFSETTO:-0800
TZNAME:PST
DTSTART:20261101T090000
END:STANDARD
END:VTIMEZONE
BEGIN:VEVENT
DTSTART;VALUE=DATE:20250417
DTEND;VALUE=DATE:20250418
DTSTAMP:20260424T211103
CREATED:20250314T171941Z
LAST-MODIFIED:20260425T033723Z
UID:10000755-1744848000-1744934399@stthomasmorecollegiate.ca
SUMMARY:SU at Moscrop
DESCRIPTION:
URL:https://stthomasmorecollegiate.ca/calendar/su-at-moscrop/
CATEGORIES:Athletics
END:VEVENT
BEGIN:VEVENT
DTSTART;VALUE=DATE:20250417
DTEND;VALUE=DATE:20250418
DTSTAMP:20260424T211103
CREATED:20250314T171941Z
LAST-MODIFIED:20260425T033723Z
UID:10000756-1744848000-1744934399@stthomasmorecollegiate.ca
SUMMARY:JU at STM
DESCRIPTION:
URL:https://stthomasmorecollegiate.ca/calendar/ju-at-cariboo-2/
CATEGORIES:Athletics
END:VEVENT
BEGIN:VEVENT
DTSTART;VALUE=DATE:20250417
DTEND;VALUE=DATE:20250418
DTSTAMP:20260424T211103
CREATED:20250314T164936Z
LAST-MODIFIED:20260425T033723Z
UID:10000743-1744848000-1744934399@stthomasmorecollegiate.ca
SUMMARY:Soccer vs Mountain (BLW 3)
DESCRIPTION:
URL:https://stthomasmorecollegiate.ca/calendar/soccer-vs-mountain-blw-3/
CATEGORIES:Athletics
END:VEVENT
BEGIN:VEVENT
DTSTART;VALUE=DATE:20250417
DTEND;VALUE=DATE:20250418
DTSTAMP:20260424T211103
CREATED:20240820T164358Z
LAST-MODIFIED:20260425T040748Z
UID:10000524-1744848000-1744934399@stthomasmorecollegiate.ca
SUMMARY:Holy Thursday
DESCRIPTION:
URL:https://stthomasmorecollegiate.ca/calendar/holy-thursday/
CATEGORIES:Special Events
END:VEVENT
BEGIN:VEVENT
DTSTART;VALUE=DATE:20250417
DTEND;VALUE=DATE:20250418
DTSTAMP:20260424T211103
CREATED:20240820T164358Z
LAST-MODIFIED:20260425T040748Z
UID:10000525-1744848000-1744934399@stthomasmorecollegiate.ca
SUMMARY:DAY 2 - EFGH
DESCRIPTION:Mass Schedule \n7 – 8:15 am       Morning X Blocks \n8:20 am       Warning Bell \n8:25 – 9:25am    Period 1 \nMorningBreak \n9:40 – 10:40am    Period 2 \n10:45 -11:45 am    Mass     \n          Lunch \n12:35 – 1:35pm    Period 3 \n1:40 – 2:40pm        Period 4 \n2:45 – 2:40       Afterschool Y Blocks
URL:https://stthomasmorecollegiate.ca/calendar/day-2-efgh-19/
CATEGORIES:Class Schedule
END:VEVENT
BEGIN:VEVENT
DTSTART;VALUE=DATE:20250416
DTEND;VALUE=DATE:20250417
DTSTAMP:20260424T211103
CREATED:20250314T171940Z
LAST-MODIFIED:20260425T033723Z
UID:10000754-1744761600-1744847999@stthomasmorecollegiate.ca
SUMMARY:SU Pull for Parkinson's Tournament (Newton)
DESCRIPTION:
URL:https://stthomasmorecollegiate.ca/calendar/su-pull-for-parkinsons-tournament-newton/
CATEGORIES:Athletics
END:VEVENT
BEGIN:VEVENT
DTSTART;VALUE=DATE:20250416
DTEND;VALUE=DATE:20250417
DTSTAMP:20260424T211103
CREATED:20250221T230519Z
LAST-MODIFIED:20260425T033722Z
UID:10000734-1744761600-1744847999@stthomasmorecollegiate.ca
SUMMARY:T&F at Central
DESCRIPTION:
URL:https://stthomasmorecollegiate.ca/calendar/tf-at-central/
CATEGORIES:Athletics
END:VEVENT
BEGIN:VEVENT
DTSTART;VALUE=DATE:20250416
DTEND;VALUE=DATE:20250417
DTSTAMP:20260424T211103
CREATED:20240820T164358Z
LAST-MODIFIED:20260425T040748Z
UID:10000518-1744761600-1744847999@stthomasmorecollegiate.ca
SUMMARY:Gr. 9 Retreat - RICE House
DESCRIPTION:
URL:https://stthomasmorecollegiate.ca/calendar/gr-9-retreat-rice-house/
CATEGORIES:Class Schedule
END:VEVENT
BEGIN:VEVENT
DTSTART;VALUE=DATE:20250416
DTEND;VALUE=DATE:20250417
DTSTAMP:20260424T211103
CREATED:20240820T164358Z
LAST-MODIFIED:20260425T040747Z
UID:10000519-1744761600-1744847999@stthomasmorecollegiate.ca
SUMMARY:Gr. 10 Mock Interviews
DESCRIPTION:
URL:https://stthomasmorecollegiate.ca/calendar/gr-10-mock-interviews/
CATEGORIES:Class Schedule
END:VEVENT
BEGIN:VEVENT
DTSTART;VALUE=DATE:20250416
DTEND;VALUE=DATE:20250417
DTSTAMP:20260424T211103
CREATED:20240820T164358Z
LAST-MODIFIED:20260425T040747Z
UID:10000526-1744761600-1744847999@stthomasmorecollegiate.ca
SUMMARY:DAY 1 - ABCD
DESCRIPTION:CareerEducation/ Advisory Schedule: \n7 – 8:15 am       Morning X Blocks \n8:20 am       Warning Bell \n8:25 – 9:30 am   Period 1 \n9:35 – 10:40 am    Period 2 \n          Morning Break     \n10:55 – 12:00 pm   Period 3 \n          Lunch \n12:45 – 1:35 pm       Career Ed \n1:35 – 2:40 pm         Period 4 \n2:45 – 4:00       Afterschool Y Blocks
URL:https://stthomasmorecollegiate.ca/calendar/day-1-abcd-19/
CATEGORIES:Class Schedule
END:VEVENT
BEGIN:VEVENT
DTSTART;VALUE=DATE:20250416
DTEND;VALUE=DATE:20250417
DTSTAMP:20260424T211103
CREATED:20240820T164358Z
LAST-MODIFIED:20260425T040748Z
UID:10000527-1744761600-1744847999@stthomasmorecollegiate.ca
SUMMARY:CLE Schedule
DESCRIPTION:CareerEducation/ Advisory Schedule: \n7 – 8:15 am       Morning X Blocks \n8:20 am       Warning Bell \n8:25 – 9:30 am   Period 1 \n9:35 – 10:40 am    Period 2 \n          Morning Break     \n10:55 – 12:00 pm   Period 3 \n          Lunch \n12:45 – 1:35 pm       Career Ed \n1:35 – 2:40 pm         Period 4 \n2:45 – 4:00       Afterschool Y Blocks
URL:https://stthomasmorecollegiate.ca/calendar/cle-schedule-15/
CATEGORIES:Class Schedule
END:VEVENT
BEGIN:VEVENT
DTSTART;VALUE=DATE:20250415
DTEND;VALUE=DATE:20250416
DTSTAMP:20260424T211103
CREATED:20250314T164936Z
LAST-MODIFIED:20260425T033723Z
UID:10000742-1744675200-1744761599@stthomasmorecollegiate.ca
SUMMARY:Soccer vs North (BLW 1)
DESCRIPTION:
URL:https://stthomasmorecollegiate.ca/calendar/soccer-vs-north-blw-1/
CATEGORIES:Athletics
END:VEVENT
BEGIN:VEVENT
DTSTART;VALUE=DATE:20250415
DTEND;VALUE=DATE:20250416
DTSTAMP:20260424T211103
CREATED:20250206T141954Z
LAST-MODIFIED:20260425T033722Z
UID:10000719-1744675200-1744761599@stthomasmorecollegiate.ca
SUMMARY:Golf Team at Riverway
DESCRIPTION:
URL:https://stthomasmorecollegiate.ca/calendar/golf-team-at-riverway-3/
CATEGORIES:Athletics
END:VEVENT
BEGIN:VEVENT
DTSTART;VALUE=DATE:20250415
DTEND;VALUE=DATE:20250416
DTSTAMP:20260424T211103
CREATED:20240820T164358Z
LAST-MODIFIED:20260425T040748Z
UID:10000520-1744675200-1744761599@stthomasmorecollegiate.ca
SUMMARY:Gr. 9 Retreat - MORE House
DESCRIPTION:
URL:https://stthomasmorecollegiate.ca/calendar/gr-9-retreat-more-house/
CATEGORIES:Class Schedule
END:VEVENT
BEGIN:VEVENT
DTSTART;VALUE=DATE:20250415
DTEND;VALUE=DATE:20250416
DTSTAMP:20260424T211103
CREATED:20240820T164358Z
LAST-MODIFIED:20260425T040748Z
UID:10000521-1744675200-1744761599@stthomasmorecollegiate.ca
SUMMARY:Junior Music Night
DESCRIPTION:
URL:https://stthomasmorecollegiate.ca/calendar/junior-music-night/
CATEGORIES:Arts
END:VEVENT
BEGIN:VEVENT
DTSTART;VALUE=DATE:20250415
DTEND;VALUE=DATE:20250416
DTSTAMP:20260424T211103
CREATED:20240820T164358Z
LAST-MODIFIED:20260425T040748Z
UID:10000522-1744675200-1744761599@stthomasmorecollegiate.ca
SUMMARY:DAY 2 - HEFG
DESCRIPTION:RegularSchedule: \n7 – 8:15 am       Morning X Blocks \n8:20 am       Warning Bell \n8:25 – 9:45 am   Period 1 \n9:50 – 11:05 am   Period 2 \n          Morning Break     \n11:20 – 12:35 pm   Period 3 \n          Lunch \n1:25 – 2:40 pm       Period 4 \n2:45 – 2:40       Afterschool Y Blocks
URL:https://stthomasmorecollegiate.ca/calendar/day-2-hefg-17/
CATEGORIES:Class Schedule
END:VEVENT
BEGIN:VEVENT
DTSTART;VALUE=DATE:20250414
DTEND;VALUE=DATE:20250415
DTSTAMP:20260424T211103
CREATED:20250331T043521Z
LAST-MODIFIED:20260425T033722Z
UID:10001016-1744588800-1744675199@stthomasmorecollegiate.ca
SUMMARY:GR7 at Bby Lake
DESCRIPTION:
URL:https://stthomasmorecollegiate.ca/calendar/gr7-at-bby-lake-2/
CATEGORIES:Athletics
END:VEVENT
BEGIN:VEVENT
DTSTART;VALUE=DATE:20250414
DTEND;VALUE=DATE:20250415
DTSTAMP:20260424T211103
CREATED:20240820T164358Z
LAST-MODIFIED:20260425T040747Z
UID:10000523-1744588800-1744675199@stthomasmorecollegiate.ca
SUMMARY:DAY 1 - DABC
DESCRIPTION:RegularSchedule: \n7 – 8:15 am       Morning X Blocks \n8:20 am       Warning Bell \n8:25 – 9:45 am   Period 1 \n9:50 – 11:05 am   Period 2 \n          Morning Break     \n11:20 – 12:35 pm   Period 3 \n          Lunch \n1:25 – 2:40 pm       Period 4 \n2:45 – 2:40       Afterschool Y Blocks
URL:https://stthomasmorecollegiate.ca/calendar/day-1-dabc-16/
CATEGORIES:Class Schedule
END:VEVENT
BEGIN:VEVENT
DTSTART;VALUE=DATE:20250411
DTEND;VALUE=DATE:20250412
DTSTAMP:20260424T211103
CREATED:20250314T171940Z
LAST-MODIFIED:20260425T033722Z
UID:10000752-1744329600-1744415999@stthomasmorecollegiate.ca
SUMMARY:JU at Cariboo
DESCRIPTION:
URL:https://stthomasmorecollegiate.ca/calendar/ju-at-cariboo/
CATEGORIES:Athletics
END:VEVENT
BEGIN:VEVENT
DTSTART;VALUE=DATE:20250411
DTEND;VALUE=DATE:20250412
DTSTAMP:20260424T211103
CREATED:20240820T164358Z
LAST-MODIFIED:20260425T040747Z
UID:10000517-1744329600-1744415999@stthomasmorecollegiate.ca
SUMMARY:Grade 11 Retreat
DESCRIPTION:
URL:https://stthomasmorecollegiate.ca/calendar/grade-11-retreat-2/
CATEGORIES:Class Schedule
END:VEVENT
BEGIN:VEVENT
DTSTART;VALUE=DATE:20250411
DTEND;VALUE=DATE:20250412
DTSTAMP:20260424T211103
CREATED:20240820T164357Z
LAST-MODIFIED:20260425T040747Z
UID:10000509-1744329600-1744415999@stthomasmorecollegiate.ca
SUMMARY:DAY 2 - GHEF
DESCRIPTION:RegularSchedule: \n7 – 8:15 am       Morning X Blocks \n8:20 am       Warning Bell \n8:25 – 9:45 am   Period 1 \n9:50 – 11:05 am   Period 2 \n          Morning Break     \n11:20 – 12:35 pm   Period 3 \n          Lunch \n1:25 – 2:40 pm       Period 4 \n2:45 – 2:40       Afterschool Y Blocks
URL:https://stthomasmorecollegiate.ca/calendar/day-2-ghef-18/
CATEGORIES:Class Schedule
END:VEVENT
BEGIN:VEVENT
DTSTART;VALUE=DATE:20250411
DTEND;VALUE=DATE:20250412
DTSTAMP:20260424T211103
CREATED:20240820T164357Z
LAST-MODIFIED:20260425T040747Z
UID:10000513-1744329600-1744415999@stthomasmorecollegiate.ca
SUMMARY:Gr. 9 Elective Switch
DESCRIPTION:
URL:https://stthomasmorecollegiate.ca/calendar/gr-9-elective-switch-2/
CATEGORIES:Class Schedule
END:VEVENT
BEGIN:VEVENT
DTSTART;VALUE=DATE:20250410
DTEND;VALUE=DATE:20250411
DTSTAMP:20260424T211103
CREATED:20240820T164358Z
LAST-MODIFIED:20260425T040747Z
UID:10000515-1744243200-1744329599@stthomasmorecollegiate.ca
SUMMARY:Grade 11 Retreat
DESCRIPTION:
URL:https://stthomasmorecollegiate.ca/calendar/grade-11-retreat/
CATEGORIES:Masses & Retreats
END:VEVENT
BEGIN:VEVENT
DTSTART;VALUE=DATE:20250410
DTEND;VALUE=DATE:20250411
DTSTAMP:20260424T211103
CREATED:20240820T164357Z
LAST-MODIFIED:20260425T040746Z
UID:10000507-1744243200-1744329599@stthomasmorecollegiate.ca
SUMMARY:Gr. 8 Elective Switch
DESCRIPTION:
URL:https://stthomasmorecollegiate.ca/calendar/gr-8-elective-switch-3/
CATEGORIES:Class Schedule
END:VEVENT
BEGIN:VEVENT
DTSTART;VALUE=DATE:20250410
DTEND;VALUE=DATE:20250411
DTSTAMP:20260424T211103
CREATED:20240820T164357Z
LAST-MODIFIED:20260425T040747Z
UID:10000508-1744243200-1744329599@stthomasmorecollegiate.ca
SUMMARY:DAY 1 - CDAB
DESCRIPTION:Late Start Schedule \n7 – 8:15 am       Morning X Blocks \n8:20 – 9:05am        PLC/ Staff Meetings \n9:15 am       Warning Bell \n9:20 – 10:25am    Period 1 \n10:30 -11:35 am    Period 2     \n11:40 -12:45 pm    Period 3 \n          Lunch \n1:35 – 2:40pm        Period 4 \n2:45 – 2:40       Afterschool Y Blocks
URL:https://stthomasmorecollegiate.ca/calendar/day-1-cdab-17/
CATEGORIES:Class Schedule
END:VEVENT
BEGIN:VEVENT
DTSTART;VALUE=DATE:20250410
DTEND;VALUE=DATE:20250411
DTSTAMP:20260424T211103
CREATED:20240820T164357Z
LAST-MODIFIED:20260425T040747Z
UID:10000510-1744243200-1744329599@stthomasmorecollegiate.ca
SUMMARY:Late Start Schedule - Dept. Meeting
DESCRIPTION:Late Start Schedule \n7 – 8:15 am       Morning X Blocks \n8:20 – 9:05am        PLC/ Staff Meetings \n9:15 am       Warning Bell \n9:20 – 10:25am    Period 1 \n10:30 -11:35 am    Period 2     \n11:40 -12:45 pm    Period 3 \n          Lunch \n1:35 – 2:40pm        Period 4 \n2:45 – 2:40       Afterschool Y Blocks
URL:https://stthomasmorecollegiate.ca/calendar/late-start-schedule-dept-meeting-7/
CATEGORIES:Class Schedule
END:VEVENT
BEGIN:VEVENT
DTSTART;VALUE=DATE:20250410
DTEND;VALUE=DATE:20250411
DTSTAMP:20260424T211103
CREATED:20240820T164357Z
LAST-MODIFIED:20260425T040746Z
UID:10000514-1744243200-1744329599@stthomasmorecollegiate.ca
SUMMARY:Numeracy 10 Exam
DESCRIPTION:
URL:https://stthomasmorecollegiate.ca/calendar/numeracy-10-exam/
CATEGORIES:Class Schedule
END:VEVENT
BEGIN:VEVENT
DTSTART;VALUE=DATE:20250409
DTEND;VALUE=DATE:20250412
DTSTAMP:20260424T211103
CREATED:20250208T004934Z
LAST-MODIFIED:20260425T033722Z
UID:10000729-1744156800-1744415999@stthomasmorecollegiate.ca
SUMMARY:Soccer Catholics Tournament
DESCRIPTION:
URL:https://stthomasmorecollegiate.ca/calendar/sr-soccer-catholics-tournament/
CATEGORIES:Athletics
END:VEVENT
BEGIN:VEVENT
DTSTART;VALUE=DATE:20250409
DTEND;VALUE=DATE:20250410
DTSTAMP:20260424T211103
CREATED:20250331T043521Z
LAST-MODIFIED:20260425T033722Z
UID:10001015-1744156800-1744243199@stthomasmorecollegiate.ca
SUMMARY:BR7 at Bby Lake
DESCRIPTION:
URL:https://stthomasmorecollegiate.ca/calendar/br7-at-bby-lake-2/
CATEGORIES:Athletics
END:VEVENT
BEGIN:VEVENT
DTSTART;VALUE=DATE:20250409
DTEND;VALUE=DATE:20250410
DTSTAMP:20260424T211103
CREATED:20250221T230518Z
LAST-MODIFIED:20260425T033722Z
UID:10000733-1744156800-1744243199@stthomasmorecollegiate.ca
SUMMARY:T&F at Mercer
DESCRIPTION:
URL:https://stthomasmorecollegiate.ca/calendar/tf-at-mercer-2/
CATEGORIES:Athletics
END:VEVENT
END:VCALENDAR