BEGIN:VCALENDAR
VERSION:2.0
PRODID:-//St. Thomas More Collegiate - ECPv6.15.20//NONSGML v1.0//EN
CALSCALE:GREGORIAN
METHOD:PUBLISH
X-ORIGINAL-URL:https://stthomasmorecollegiate.ca
X-WR-CALDESC:Events for St. Thomas More Collegiate
REFRESH-INTERVAL;VALUE=DURATION:PT1H
X-Robots-Tag:noindex
X-PUBLISHED-TTL:PT1H
BEGIN:VTIMEZONE
TZID:America/Vancouver
BEGIN:DAYLIGHT
TZOFFSETFROM:-0800
TZOFFSETTO:-0700
TZNAME:PDT
DTSTART:20230312T100000
END:DAYLIGHT
BEGIN:STANDARD
TZOFFSETFROM:-0700
TZOFFSETTO:-0800
TZNAME:PST
DTSTART:20231105T090000
END:STANDARD
BEGIN:DAYLIGHT
TZOFFSETFROM:-0800
TZOFFSETTO:-0700
TZNAME:PDT
DTSTART:20240310T100000
END:DAYLIGHT
BEGIN:STANDARD
TZOFFSETFROM:-0700
TZOFFSETTO:-0800
TZNAME:PST
DTSTART:20241103T090000
END:STANDARD
BEGIN:DAYLIGHT
TZOFFSETFROM:-0800
TZOFFSETTO:-0700
TZNAME:PDT
DTSTART:20250309T100000
END:DAYLIGHT
BEGIN:STANDARD
TZOFFSETFROM:-0700
TZOFFSETTO:-0800
TZNAME:PST
DTSTART:20251102T090000
END:STANDARD
BEGIN:DAYLIGHT
TZOFFSETFROM:-0800
TZOFFSETTO:-0700
TZNAME:PDT
DTSTART:20260308T100000
END:DAYLIGHT
BEGIN:STANDARD
TZOFFSETFROM:-0700
TZOFFSETTO:-0800
TZNAME:PST
DTSTART:20261101T090000
END:STANDARD
END:VTIMEZONE
BEGIN:VEVENT
DTSTART;TZID=America/Vancouver:20251025T190000
DTEND;TZID=America/Vancouver:20251025T233000
DTSTAMP:20260424T025105
CREATED:20250909T153753Z
LAST-MODIFIED:20260424T093816Z
UID:10001227-1761418800-1761435000@stthomasmorecollegiate.ca
SUMMARY:STMC Inaugural Halloween Bash
DESCRIPTION:🎃 STMC Inaugural Halloween Bash – Come if You Dare! 🕸️ \nJoin us on Saturday\, October 25\, 2025\, at 7:00 PM in the StanJean Centre (STMC Gym) for a spooktacular night of fun\, music\, and community—all while supporting our Grad 2026 activities! We’re excited to welcome all families and friends in the STMC community to join the fun!👻 Costumes are a must! Dress to impress\, scare\, or sparkle—let’s make this a night full of fun\, frights\, and creativity!19+ only – please drink responsibly.Tickets / More Info: https://trellis.org/stmchalloweenbash25Join us… if you dare!
URL:https://stthomasmorecollegiate.ca/calendar/stmc-inaugural-halloween-bash/
LOCATION:St. Thomas More Collegiate\, 7450 12th Ave\, Burnaby\, BC V3N 2K1\, Canada
CATEGORIES:Special Events
END:VEVENT
BEGIN:VEVENT
DTSTART;TZID=America/Vancouver:20240606T143000
DTEND;TZID=America/Vancouver:20240606T153000
DTSTAMP:20260424T025105
CREATED:20240521T183456Z
LAST-MODIFIED:20240820T202009Z
UID:10000151-1717684200-1717687800@stthomasmorecollegiate.ca
SUMMARY:Used Uniform Sale
DESCRIPTION:
URL:https://stthomasmorecollegiate.ca/calendar/used-uniform-sale/
LOCATION:St. Thomas More Collegiate\, 7450 12th Ave\, Burnaby\, BC V3N 2K1\, Canada
CATEGORIES:Class Schedule,Special Events
END:VEVENT
END:VCALENDAR